BEGIN:VCALENDAR
VERSION:2.0
PRODID:-//Americase - ECPv6.15.17//NONSGML v1.0//EN
CALSCALE:GREGORIAN
METHOD:PUBLISH
X-WR-CALNAME:Americase
X-ORIGINAL-URL:https://americasenew.codolin.com
X-WR-CALDESC:Events for Americase
REFRESH-INTERVAL;VALUE=DURATION:PT1H
X-Robots-Tag:noindex
X-PUBLISHED-TTL:PT1H
BEGIN:VTIMEZONE
TZID:UTC
BEGIN:STANDARD
TZOFFSETFROM:+0000
TZOFFSETTO:+0000
TZNAME:UTC
DTSTART:20250101T000000
END:STANDARD
END:VTIMEZONE
BEGIN:VEVENT
DTSTART;TZID=UTC:20260503T000000
DTEND;TZID=UTC:20260508T235959
DTSTAMP:20260424T150342
CREATED:20260302T201836Z
LAST-MODIFIED:20260325T194742Z
UID:1712-1777766400-1778284799@americasenew.codolin.com
SUMMARY:Council on Safe Transportation of Hazardous Articles\, Inc. (COSTHA)
DESCRIPTION:COSTHA 2026 Annual Forum and Expo. Attend our training session\, Packaging Requirements for Lithium Batteries by Ground\, Air\, and Water\, on Monday\, May 4\, 2026\, 8am-12pm. This course will review and discuss the different types of packaging to be used to transport lithium batteries by ground\, air\, and water transportation\, covering regulations\, UN specification packaging\, and non-specification packaging requirements.
URL:https://americasenew.codolin.com/event/council-on-safe-transportation-of-hazardous-articles-inc-costha/
LOCATION:The Scottsdale Resort at McCormick Ranch\, 5401 N Scottsdale Rd\, Scottsdale\, Arizona\, 85250\, United States
ATTACH;FMTTYPE=image/webp:https://americasenew.codolin.com/wp-content/uploads/2026/03/costha-2026-annual-forum-scottsdale.webp
END:VEVENT
BEGIN:VEVENT
DTSTART;TZID=UTC:20260512T110000
DTEND;TZID=UTC:20260512T120000
DTSTAMP:20260424T150342
CREATED:20260325T195054Z
LAST-MODIFIED:20260325T195132Z
UID:2082-1778583600-1778587200@americasenew.codolin.com
SUMMARY:Pyrotechnics and Fireworks Safety: Regulatory Compliance and Dangerous Goods Expertise
DESCRIPTION:Practical guidance on navigating the complex regulatory landscape governing pyrotechnic materials. Covers classification\, packaging\, marking\, labeling\, documentation\, and transport compliance. Target audience includes fireworks manufacturers\, distributors\, display operators\, safety professionals\, and compliance managers. Speakers: Ryan Paquet (President\, HazMat Safety Consulting; Former Director\, Approvals and Permits Division\, PHMSA) and Katherine Bain (Director of Instructional Learning\, American Pyrotechnics Association University).
URL:https://americasenew.codolin.com/event/pyrotechnics-and-fireworks-safety-regulatory-compliance-and-dangerous-goods-expertise/
LOCATION:LinkedIn Live (Virtual)
CATEGORIES:Webinar
ATTACH;FMTTYPE=image/png:https://americasenew.codolin.com/wp-content/uploads/2026/03/banner-image-3-1-m07tR6.png
END:VEVENT
END:VCALENDAR