BEGIN:VCALENDAR
VERSION:2.0
PRODID:-//Americase - ECPv6.15.17//NONSGML v1.0//EN
CALSCALE:GREGORIAN
METHOD:PUBLISH
X-WR-CALNAME:Americase
X-ORIGINAL-URL:https://americasenew.codolin.com
X-WR-CALDESC:Events for Americase
REFRESH-INTERVAL;VALUE=DURATION:PT1H
X-Robots-Tag:noindex
X-PUBLISHED-TTL:PT1H
BEGIN:VTIMEZONE
TZID:UTC
BEGIN:STANDARD
TZOFFSETFROM:+0000
TZOFFSETTO:+0000
TZNAME:UTC
DTSTART:20250101T000000
END:STANDARD
END:VTIMEZONE
BEGIN:VEVENT
DTSTART;TZID=UTC:20261208T110000
DTEND;TZID=UTC:20261208T120000
DTSTAMP:20260425T130908
CREATED:20260325T195104Z
LAST-MODIFIED:20260325T195132Z
UID:2090-1796727600-1796731200@americasenew.codolin.com
SUMMARY:The Future of Hazardous Materials Safety Leadership
DESCRIPTION:Roundtable with PHMSA leadership discussing emerging regulatory priorities and strategic compliance approaches.
URL:https://americasenew.codolin.com/event/the-future-of-hazardous-materials-safety-leadership/
LOCATION:LinkedIn Live (Virtual)
CATEGORIES:Webinar
ATTACH;FMTTYPE=image/png:https://americasenew.codolin.com/wp-content/uploads/2026/03/banner-image-3-1-m07tR6.png
END:VEVENT
END:VCALENDAR