BEGIN:VCALENDAR
VERSION:2.0
PRODID:-//Americase - ECPv6.15.17//NONSGML v1.0//EN
CALSCALE:GREGORIAN
METHOD:PUBLISH
X-WR-CALNAME:Americase
X-ORIGINAL-URL:https://americasenew.codolin.com
X-WR-CALDESC:Events for Americase
REFRESH-INTERVAL;VALUE=DURATION:PT1H
X-Robots-Tag:noindex
X-PUBLISHED-TTL:PT1H
BEGIN:VTIMEZONE
TZID:UTC
BEGIN:STANDARD
TZOFFSETFROM:+0000
TZOFFSETTO:+0000
TZNAME:UTC
DTSTART:20250101T000000
END:STANDARD
END:VTIMEZONE
BEGIN:VEVENT
DTSTART;TZID=UTC:20260908T110000
DTEND;TZID=UTC:20260908T120000
DTSTAMP:20260425T142117
CREATED:20260325T195100Z
LAST-MODIFIED:20260325T195132Z
UID:2087-1788865200-1788868800@americasenew.codolin.com
SUMMARY:Global Dangerous Goods: Adapting to International Cargo Standards
DESCRIPTION:Details evolving global cargo requirements under IMDG\, IATA\, and ADR frameworks for cross-border compliance.
URL:https://americasenew.codolin.com/event/global-dangerous-goods-adapting-to-international-cargo-standards/
LOCATION:LinkedIn Live (Virtual)
CATEGORIES:Webinar
ATTACH;FMTTYPE=image/png:https://americasenew.codolin.com/wp-content/uploads/2026/03/banner-image-3-1-m07tR6.png
END:VEVENT
BEGIN:VEVENT
DTSTART;TZID=UTC:20261012T000000
DTEND;TZID=UTC:20261015T235959
DTSTAMP:20260425T142117
CREATED:20260302T201836Z
LAST-MODIFIED:20260325T194742Z
UID:1713-1791763200-1792108799@americasenew.codolin.com
SUMMARY:The Battery Show North America
DESCRIPTION:The Battery Show North America. Americase booth 3508. North America’s largest advanced battery and EV technology event\, featuring 1\,300+ exhibitors and 21\,000+ attendees.
URL:https://americasenew.codolin.com/event/the-battery-show-north-america/
LOCATION:Huntington Place\, 1 Washington Blvd\, Detroit\, Michigan\, 48226\, United States
ATTACH;FMTTYPE=image/webp:https://americasenew.codolin.com/wp-content/uploads/2026/03/battery-show-north-america-expo-floor.webp
END:VEVENT
BEGIN:VEVENT
DTSTART;TZID=UTC:20261013T110000
DTEND;TZID=UTC:20261013T120000
DTSTAMP:20260425T142117
CREATED:20260325T195101Z
LAST-MODIFIED:20260325T195132Z
UID:2088-1791889200-1791892800@americasenew.codolin.com
SUMMARY:Transportation Security and Chemical Data Protection
DESCRIPTION:Focus on routing\, security considerations\, tunnel regulations\, and risk analysis for transporting sensitive materials.
URL:https://americasenew.codolin.com/event/transportation-security-and-chemical-data-protection/
LOCATION:LinkedIn Live (Virtual)
CATEGORIES:Webinar
ATTACH;FMTTYPE=image/png:https://americasenew.codolin.com/wp-content/uploads/2026/03/banner-image-3-1-m07tR6.png
END:VEVENT
BEGIN:VEVENT
DTSTART;TZID=UTC:20261020T000000
DTEND;TZID=UTC:20261022T235959
DTSTAMP:20260425T142117
CREATED:20260302T201837Z
LAST-MODIFIED:20260325T194742Z
UID:1714-1792454400-1792713599@americasenew.codolin.com
SUMMARY:NBAA-BACE 2026
DESCRIPTION:NBAA Business Aviation Convention & Exhibition (NBAA-BACE) 2026. Americase booth TBD. The world’s most powerful business aviation event featuring aircraft displays\, education sessions\, and industry networking.
URL:https://americasenew.codolin.com/event/nbaa-bace-2026/
LOCATION:Las Vegas Convention Center\, West Hall\, 3150 Paradise Rd\, Las Vegas\, Nevada\, 89109\, United States
ATTACH;FMTTYPE=image/webp:https://americasenew.codolin.com/wp-content/uploads/2026/03/nbaa-bace-2026-las-vegas.webp
END:VEVENT
BEGIN:VEVENT
DTSTART;TZID=UTC:20261110T110000
DTEND;TZID=UTC:20261110T120000
DTSTAMP:20260425T142117
CREATED:20260325T195102Z
LAST-MODIFIED:20260325T195132Z
UID:2089-1794308400-1794312000@americasenew.codolin.com
SUMMARY:What to Do if USDOT Knocks on Your Door
DESCRIPTION:Be prepared before the knock. Practical guidance on DOT inspections\, documentation requirements\, and managing regulatory visits. Speakers: Bob Richard (Former Deputy Associate Administrator for Hazardous Materials Safety\, PHMSA) and Peg Carson (Veteran hazardous materials investigator\, USDOT and Massachusetts DEC).
URL:https://americasenew.codolin.com/event/what-to-do-if-usdot-knocks-on-your-door/
LOCATION:LinkedIn Live (Virtual)
CATEGORIES:Webinar
ATTACH;FMTTYPE=image/png:https://americasenew.codolin.com/wp-content/uploads/2026/03/banner-image-3-1-m07tR6.png
END:VEVENT
BEGIN:VEVENT
DTSTART;TZID=UTC:20261208T110000
DTEND;TZID=UTC:20261208T120000
DTSTAMP:20260425T142117
CREATED:20260325T195104Z
LAST-MODIFIED:20260325T195132Z
UID:2090-1796727600-1796731200@americasenew.codolin.com
SUMMARY:The Future of Hazardous Materials Safety Leadership
DESCRIPTION:Roundtable with PHMSA leadership discussing emerging regulatory priorities and strategic compliance approaches.
URL:https://americasenew.codolin.com/event/the-future-of-hazardous-materials-safety-leadership/
LOCATION:LinkedIn Live (Virtual)
CATEGORIES:Webinar
ATTACH;FMTTYPE=image/png:https://americasenew.codolin.com/wp-content/uploads/2026/03/banner-image-3-1-m07tR6.png
END:VEVENT
END:VCALENDAR