BEGIN:VCALENDAR
VERSION:2.0
PRODID:-//Americase - ECPv6.15.17//NONSGML v1.0//EN
CALSCALE:GREGORIAN
METHOD:PUBLISH
X-WR-CALNAME:Americase
X-ORIGINAL-URL:https://americasenew.codolin.com
X-WR-CALDESC:Events for Americase
REFRESH-INTERVAL;VALUE=DURATION:PT1H
X-Robots-Tag:noindex
X-PUBLISHED-TTL:PT1H
BEGIN:VTIMEZONE
TZID:UTC
BEGIN:STANDARD
TZOFFSETFROM:+0000
TZOFFSETTO:+0000
TZNAME:UTC
DTSTART:20250101T000000
END:STANDARD
END:VTIMEZONE
BEGIN:VEVENT
DTSTART;TZID=UTC:20260414T110000
DTEND;TZID=UTC:20260414T120000
DTSTAMP:20260424T163436
CREATED:20260325T195053Z
LAST-MODIFIED:20260325T195132Z
UID:2081-1776164400-1776168000@americasenew.codolin.com
SUMMARY:Risk Reduction and Root Cause Analysis: Lessons Learned from Real Incidents
DESCRIPTION:Learn from others’ mistakes before they become yours. This webinar explores systematic incident investigation and root cause analysis using case studies from major hazardous materials incidents. Speakers: Paul Stancil (Former Senior Hazardous Materials Accident Investigator\, NTSB)\, Bob Richard (Former Deputy Associate Administrator for Hazardous Materials Safety\, PHMSA)\, and Duane Pfund (Former Director\, PHMSA Office of Hazardous Materials Safety Programs).
URL:https://americasenew.codolin.com/event/risk-reduction-and-root-cause-analysis-lessons-learned-from-real-incidents/
LOCATION:LinkedIn Live (Virtual)
CATEGORIES:Webinar
ATTACH;FMTTYPE=image/png:https://americasenew.codolin.com/wp-content/uploads/2026/03/banner-image-3-1-m07tR6.png
END:VEVENT
END:VCALENDAR