BEGIN:VCALENDAR
VERSION:2.0
PRODID:-//Americase - ECPv6.15.17//NONSGML v1.0//EN
CALSCALE:GREGORIAN
METHOD:PUBLISH
X-WR-CALNAME:Americase
X-ORIGINAL-URL:https://americasenew.codolin.com
X-WR-CALDESC:Events for Americase
REFRESH-INTERVAL;VALUE=DURATION:PT1H
X-Robots-Tag:noindex
X-PUBLISHED-TTL:PT1H
BEGIN:VTIMEZONE
TZID:UTC
BEGIN:STANDARD
TZOFFSETFROM:+0000
TZOFFSETTO:+0000
TZNAME:UTC
DTSTART:20250101T000000
END:STANDARD
END:VTIMEZONE
BEGIN:VEVENT
DTSTART;TZID=UTC:20260304T000000
DTEND;TZID=UTC:20260305T235959
DTSTAMP:20260424T162435
CREATED:20260302T201834Z
LAST-MODIFIED:20260325T194743Z
UID:1707-1772582400-1772755199@americasenew.codolin.com
SUMMARY:Data Centre World London
DESCRIPTION:Americase is moderating a panel: Panel: Automating Operations Beyond the Build on March 5\, 2026 at 10:40 AM at ExCeL London. As AI and cloud computing drive unprecedented data center growth\, operational complexity inside facilities is accelerating. This panel addresses the growing operational gap between rapid build-out and day-to-day execution with a focus on automation systems for handling things like full chassis swaps and hot-aisle FRUs (field replacement units) at scale. Panelists will share operator-driven perspectives on reducing manual risk\, protecting live infrastructure\, and maintaining 99.9% uptime through automation.
URL:https://americasenew.codolin.com/event/data-centre-world-london/
LOCATION:ExCeL London\, Royal Victoria Dock\, 1 Western Gateway\, London\, E16 1XL\, United Kingdom
ATTACH;FMTTYPE=image/webp:https://americasenew.codolin.com/wp-content/uploads/2026/03/data-centre-world-london-2026-logo.webp
END:VEVENT
END:VCALENDAR